BEGIN:VCALENDAR
VERSION:2.0
PRODID:-//Kristy Trent - ECPv6.2.8.2//NONSGML v1.0//EN
CALSCALE:GREGORIAN
METHOD:PUBLISH
X-WR-CALNAME:Kristy Trent
X-ORIGINAL-URL:https://kristytrent.com
X-WR-CALDESC:Events for Kristy Trent
REFRESH-INTERVAL;VALUE=DURATION:PT1H
X-Robots-Tag:noindex
X-PUBLISHED-TTL:PT1H
BEGIN:VTIMEZONE
TZID:America/Chicago
BEGIN:DAYLIGHT
TZOFFSETFROM:-0600
TZOFFSETTO:-0500
TZNAME:CDT
DTSTART:20150308T080000
END:DAYLIGHT
BEGIN:STANDARD
TZOFFSETFROM:-0500
TZOFFSETTO:-0600
TZNAME:CST
DTSTART:20151101T070000
END:STANDARD
END:VTIMEZONE
BEGIN:VEVENT
DTSTART;TZID=America/Chicago:20150330T090000
DTEND;TZID=America/Chicago:20150330T120000
DTSTAMP:20260423T053820
CREATED:20141115T205128Z
LAST-MODIFIED:20150128T160157Z
UID:1310-1427706000-1427716800@kristytrent.com
SUMMARY:SAT 10 Testing for Grades 4-6
DESCRIPTION:Join us for SAT10 Testing for homeschoolers in grades 4-6!  All tests are purchased through BJU Press and are administered by me (Kristy)\, an approved test administrator. \nIt is very important to order your tests ASAP.  Priority shipping can be costly.  Please contact me or RSVP here to confirm that we have not filled up all the spaces.  When you RSVP\, I will send you the ordering information. \nCOST \nSAT 10 Test:   $29 per test  (and you can add the OLSAT 8 if you want\, but it makes the test cost rise to $48.50) \nAdministrative costs:  $35 per student for up to 7 hours of test administration and everything needed for the test (pencils\, water\, snacks)   (Please contact me for discount options if needed) \nClick here for my tester profile with BJU Press \nLOCATION \nWe will meet in a professional training room\, and each student will have his/her own work space.  There are waiting room areas for parents to sit during testing\, but there are not activities or environments for young children. \nThere is a shopping area nearby at Lee Branch\, as well as a movie theater.  I can also direct you to nearby parks and playgrounds. \nSECURE YOUR SPOT \n[wp_eStore_fancy2 id=3]
URL:https://kristytrent.com/event/sat-10-testing-grades-4-6-2/
LOCATION:Essential Church School Offices\, 4000 Eagle Point Corporate Drive\, Birmingham\, AL\, 35242\, United States
CATEGORIES:Testing
ATTACH;FMTTYPE=image/jpeg:https://kristytrent.com/wp-content/uploads/2013/09/sattest.jpg
END:VEVENT
BEGIN:VEVENT
DTSTART;TZID=America/Chicago:20150330T130000
DTEND;TZID=America/Chicago:20150330T160000
DTSTAMP:20260423T053820
CREATED:20141115T210212Z
LAST-MODIFIED:20150128T183039Z
UID:1313-1427720400-1427731200@kristytrent.com
SUMMARY:SAT 10 Testing for Grades 7-8
DESCRIPTION:Join us for SAT10 Testing for homeschoolers in grades 7-8!  All tests are purchased through BJU Press and are administered by me (Kristy)\, an approved test administrator. \nIt is very important to order your tests ASAP.  Priority shipping can be costly.  Please contact me or RSVP here to confirm that we have not filled up all the spaces.  When you RSVP\, I will send you the ordering information. \nCOST \nSAT 10 Test:   $29 per test  (and you can add the OLSAT 8 if you want\, but it makes the test cost rise to $48.50) \nAdministrative costs:  $35 per student for up to 7 hours of test administration and everything needed for the test (pencils\, water\, snacks)   (Please contact me for discount options if needed) \nClick here for my tester profile with BJU Press \nLOCATION \nWe will meet in a professional training room\, and each student will have his/her own work space.  There are waiting room areas for parents to sit during testing\, but there are not activities or environments for young children. \nThere is a shopping area nearby at Lee Branch\, as well as a movie theater.  I can also direct you to nearby parks and playgrounds. \nSECURE YOUR SPOTS FOR THESE TEST DATES \n[wp_eStore_fancy2 id=5]
URL:https://kristytrent.com/event/sat-10-testing-grades-7-8/
LOCATION:Essential Church School Offices\, 4000 Eagle Point Corporate Drive\, Birmingham\, AL\, 35242\, United States
CATEGORIES:Testing
ATTACH;FMTTYPE=image/jpeg:https://kristytrent.com/wp-content/uploads/2014/11/sat10advanced.jpg
END:VEVENT
END:VCALENDAR