BEGIN:VCALENDAR
VERSION:2.0
PRODID:-//Kristy Trent - ECPv6.2.8.2//NONSGML v1.0//EN
CALSCALE:GREGORIAN
METHOD:PUBLISH
X-WR-CALNAME:Kristy Trent
X-ORIGINAL-URL:https://kristytrent.com
X-WR-CALDESC:Events for Kristy Trent
REFRESH-INTERVAL;VALUE=DURATION:PT1H
X-Robots-Tag:noindex
X-PUBLISHED-TTL:PT1H
BEGIN:VTIMEZONE
TZID:America/Chicago
BEGIN:DAYLIGHT
TZOFFSETFROM:-0600
TZOFFSETTO:-0500
TZNAME:CDT
DTSTART:20150308T080000
END:DAYLIGHT
BEGIN:STANDARD
TZOFFSETFROM:-0500
TZOFFSETTO:-0600
TZNAME:CST
DTSTART:20151101T070000
END:STANDARD
BEGIN:DAYLIGHT
TZOFFSETFROM:-0600
TZOFFSETTO:-0500
TZNAME:CDT
DTSTART:20160313T080000
END:DAYLIGHT
BEGIN:STANDARD
TZOFFSETFROM:-0500
TZOFFSETTO:-0600
TZNAME:CST
DTSTART:20161106T070000
END:STANDARD
BEGIN:DAYLIGHT
TZOFFSETFROM:-0600
TZOFFSETTO:-0500
TZNAME:CDT
DTSTART:20170312T080000
END:DAYLIGHT
BEGIN:STANDARD
TZOFFSETFROM:-0500
TZOFFSETTO:-0600
TZNAME:CST
DTSTART:20171105T070000
END:STANDARD
BEGIN:DAYLIGHT
TZOFFSETFROM:-0600
TZOFFSETTO:-0500
TZNAME:CDT
DTSTART:20180311T080000
END:DAYLIGHT
BEGIN:STANDARD
TZOFFSETFROM:-0500
TZOFFSETTO:-0600
TZNAME:CST
DTSTART:20181104T070000
END:STANDARD
BEGIN:DAYLIGHT
TZOFFSETFROM:-0600
TZOFFSETTO:-0500
TZNAME:CDT
DTSTART:20190310T080000
END:DAYLIGHT
BEGIN:STANDARD
TZOFFSETFROM:-0500
TZOFFSETTO:-0600
TZNAME:CST
DTSTART:20191103T070000
END:STANDARD
BEGIN:DAYLIGHT
TZOFFSETFROM:-0600
TZOFFSETTO:-0500
TZNAME:CDT
DTSTART:20200308T080000
END:DAYLIGHT
BEGIN:STANDARD
TZOFFSETFROM:-0500
TZOFFSETTO:-0600
TZNAME:CST
DTSTART:20201101T070000
END:STANDARD
END:VTIMEZONE
BEGIN:VEVENT
DTSTART;TZID=America/Chicago:20150401T090000
DTEND;TZID=America/Chicago:20150401T120000
DTSTAMP:20260423T111702
CREATED:20141115T205427Z
LAST-MODIFIED:20141115T205456Z
UID:1311-1427878800-1427889600@kristytrent.com
SUMMARY:SAT 10 Testing for Grades 4-6 cont.
DESCRIPTION:Testing will continue into this day. Please see the event page on March 30th for full details.
URL:https://kristytrent.com/event/sat-10-testing-grades-4-6-cont/
LOCATION:Essential Church School Offices\, 4000 Eagle Point Corporate Drive\, Birmingham\, AL\, 35242\, United States
CATEGORIES:Testing
ATTACH;FMTTYPE=image/jpeg:https://kristytrent.com/wp-content/uploads/2013/09/sattest.jpg
END:VEVENT
BEGIN:VEVENT
DTSTART;TZID=America/Chicago:20150401T130000
DTEND;TZID=America/Chicago:20150401T160000
DTSTAMP:20260423T111702
CREATED:20141115T210544Z
LAST-MODIFIED:20141115T210544Z
UID:1315-1427893200-1427904000@kristytrent.com
SUMMARY:SAT 10 Testing for Grades 7-8 cont.
DESCRIPTION:SAT 10 Testing will continue on this day from start date on March 30th. Please view the March 30th date for full details.
URL:https://kristytrent.com/event/sat-10-testing-grades-7-8-cont/
LOCATION:Essential Church School Offices\, 4000 Eagle Point Corporate Drive\, Birmingham\, AL\, 35242\, United States
CATEGORIES:Testing
ATTACH;FMTTYPE=image/jpeg:https://kristytrent.com/wp-content/uploads/2014/11/sat10advanced.jpg
END:VEVENT
BEGIN:VEVENT
DTSTART;TZID=America/Chicago:20150418T100000
DTEND;TZID=America/Chicago:20150418T150000
DTSTAMP:20260423T111702
CREATED:20150401T175537Z
LAST-MODIFIED:20150401T175537Z
UID:1377-1429351200-1429369200@kristytrent.com
SUMMARY:Homeschooling Workshop
DESCRIPTION:I’m so excited to offer these workshops for those considering homeschooling\, new to homeschooling\, and those who need a refresher for the next school year. \nWe will discuss purpose and how we stay legal and secure.  In addition\, we will explore methods and how to choose curriculum.  And\, who doesn’t need some help with planning and organizing school days? \nWe have some guest speakers who will inspire and encourage you.  You will also hear stories from current homeschool moms. \nVisit http://homeschoolingworkshop2015a.eventbrite.com for all the details.
URL:https://kristytrent.com/event/homeschooling-workshop-4/
LOCATION:Chelsea City Hall\, 11611 Chelsea Road\, Chelsea\, AL\, 35043\, United States
CATEGORIES:Workshop
ATTACH;FMTTYPE=image/jpeg:https://kristytrent.com/wp-content/uploads/2014/05/homeschoolingworkshop.jpg
ORGANIZER;CN="Birmingham Homeschoolers Community":MAILTO:Info@birminghamhomeschoolers.com
END:VEVENT
BEGIN:VEVENT
DTSTART;VALUE=DATE:20150618
DTEND;VALUE=DATE:20150620
DTSTAMP:20260423T111702
CREATED:20150218T192842Z
LAST-MODIFIED:20150218T192842Z
UID:1370-1434585600-1434758399@kristytrent.com
SUMMARY:CHEF Convention and Curriculum Fair
DESCRIPTION:This homeschool convention features an intimate setting with inspiring speakers and curriculum vendors. \nI will be presenting two sessions and hope to meet you there! \n(They also offer a wonderful children’s program)
URL:https://kristytrent.com/event/chef-convention-and-curriculum-fair/
LOCATION:Gardendale First Baptist Church\, South Campus\, 940 Main Street\, Gardendale\, AL\, 35071\, United States
CATEGORIES:Conference
ATTACH;FMTTYPE=image/jpeg:https://kristytrent.com/wp-content/uploads/2015/02/custom_public11718_4.jpg
END:VEVENT
BEGIN:VEVENT
DTSTART;TZID=America/Chicago:20150620T080000
DTEND;TZID=America/Chicago:20150620T170000
DTSTAMP:20260423T111702
CREATED:20150401T190625Z
LAST-MODIFIED:20150401T190625Z
UID:1378-1434787200-1434819600@kristytrent.com
SUMMARY:Homeschooling Workshop
DESCRIPTION:Visit http://homeschoolingworkshop2015b.eventbrite.com for full details.
URL:https://kristytrent.com/event/homeschooling-workshop-5/
LOCATION:Decatur Highway Church of Christ\, 1750 Decatur Highway\, Gardendale\, AL\, 35071\, United States
CATEGORIES:Workshop
ATTACH;FMTTYPE=image/jpeg:https://kristytrent.com/wp-content/uploads/2014/05/homeschoolingworkshop.jpg
ORGANIZER;CN="Birmingham Homeschoolers Community":MAILTO:Info@birminghamhomeschoolers.com
END:VEVENT
BEGIN:VEVENT
DTSTART;TZID=America/Chicago:20150711T110000
DTEND;TZID=America/Chicago:20150711T160000
DTSTAMP:20260423T111702
CREATED:20150401T191135Z
LAST-MODIFIED:20150401T191135Z
UID:1380-1436612400-1436630400@kristytrent.com
SUMMARY:Homeschooling Workshop
DESCRIPTION:Visit http://homeschoolingworkshop2015c.eventbrite.com for full details.
URL:https://kristytrent.com/event/homeschooling-workshop-6/
LOCATION:Hoover Public Library\, 200 Municipal Lane\, Hoover\, AL\, 35216\, United States
CATEGORIES:Workshop
ATTACH;FMTTYPE=image/jpeg:https://kristytrent.com/wp-content/uploads/2014/05/homeschoolingworkshop.jpg
ORGANIZER;CN="Birmingham Homeschoolers Community":MAILTO:Info@birminghamhomeschoolers.com
END:VEVENT
BEGIN:VEVENT
DTSTART;TZID=America/Chicago:20150829T130000
DTEND;TZID=America/Chicago:20150829T160000
DTSTAMP:20260423T111702
CREATED:20150810T012644Z
LAST-MODIFIED:20150810T012644Z
UID:1404-1440853200-1440864000@kristytrent.com
SUMMARY:Homeschool High School Workshop
DESCRIPTION:Join me and a panel of wonderful ladies in an afternoon of preparation and encouragement for homeschooling through high school! \nRSVP at the event’s website:  http://homeschoolhighschool.eventbrite.com
URL:https://kristytrent.com/event/homeschool-high-school-workshop/
LOCATION:Chelsea City Hall\, 11611 Chelsea Road\, Chelsea\, AL\, 35043\, United States
CATEGORIES:Workshop
ATTACH;FMTTYPE=image/jpeg:https://kristytrent.com/wp-content/uploads/2015/08/graduationjpg700.jpg
ORGANIZER;CN="Birmingham Homeschoolers Community":MAILTO:Info@birminghamhomeschoolers.com
END:VEVENT
BEGIN:VEVENT
DTSTART;VALUE=DATE:20160624
DTEND;VALUE=DATE:20160626
DTSTAMP:20260423T111702
CREATED:20160622T135137Z
LAST-MODIFIED:20160622T135137Z
UID:1432-1466726400-1466899199@kristytrent.com
SUMMARY:CHEF Homeschool Convention & Curriculum Fair
DESCRIPTION:I am excited to be speaking at this event.  I love homeschool conventions\, and I even shared a post about this!  Read more at Reasons to go to a Homeschool Convention. \nCome learn and explore\, as well as connect!
URL:https://kristytrent.com/event/chef-homeschool-convention-curriculum-fair/
LOCATION:Metropolitan Church of God\, 2800 Metropolitan Way\, Birmingham\, AL\, 35243\, United States
CATEGORIES:Conference
ATTACH;FMTTYPE=image/png:https://kristytrent.com/wp-content/uploads/2016/06/2016convention600x400.png
END:VEVENT
BEGIN:VEVENT
DTSTART;VALUE=DATE:20200727
DTEND;VALUE=DATE:20200801
DTSTAMP:20260423T111702
CREATED:20200722T123806Z
LAST-MODIFIED:20200722T143502Z
UID:2708-1595808000-1596239999@kristytrent.com
SUMMARY:Homeschooling Basic Training
DESCRIPTION:It may be basic\, but that does not mean easy!  Join me for a week of training and preparation for homeschooling. \n9-10am or 1-2pm each weekday – July 27-31 \nWe will cover: \n\nBeing Purposeful (Know Your Why)\nBeing Responsible (Legal)\nWays and Means of Homeschooling (Methods)\nThe Homeschool Toolbox (Curriculum)\nBeing Prepared (Planning)\n\n$10/person includes admission to all the sessions as well as materials to help move homeschooling parents beyond the basics. \nTo register\, please use the form below: \nRegistration has closed for this week's training camp.  Watch my website for other homeschool workshops and training!
URL:https://kristytrent.com/event/homeschooling-basic-training/
LOCATION:Online
CATEGORIES:Conference
ATTACH;FMTTYPE=image/png:https://kristytrent.com/wp-content/uploads/2020/07/My-Post-5-e1595421135603.png
END:VEVENT
END:VCALENDAR