BEGIN:VCALENDAR
VERSION:2.0
PRODID:-//Kristy Trent - ECPv6.2.8.2//NONSGML v1.0//EN
CALSCALE:GREGORIAN
METHOD:PUBLISH
X-ORIGINAL-URL:https://kristytrent.com
X-WR-CALDESC:Events for Kristy Trent
REFRESH-INTERVAL;VALUE=DURATION:PT1H
X-Robots-Tag:noindex
X-PUBLISHED-TTL:PT1H
BEGIN:VTIMEZONE
TZID:America/Chicago
BEGIN:DAYLIGHT
TZOFFSETFROM:-0600
TZOFFSETTO:-0500
TZNAME:CDT
DTSTART:20150308T080000
END:DAYLIGHT
BEGIN:STANDARD
TZOFFSETFROM:-0500
TZOFFSETTO:-0600
TZNAME:CST
DTSTART:20151101T070000
END:STANDARD
END:VTIMEZONE
BEGIN:VEVENT
DTSTART;TZID=America/Chicago:20150401T090000
DTEND;TZID=America/Chicago:20150401T120000
DTSTAMP:20260423T070332
CREATED:20141115T205427Z
LAST-MODIFIED:20141115T205456Z
UID:1311-1427878800-1427889600@kristytrent.com
SUMMARY:SAT 10 Testing for Grades 4-6 cont.
DESCRIPTION:Testing will continue into this day. Please see the event page on March 30th for full details.
URL:https://kristytrent.com/event/sat-10-testing-grades-4-6-cont/
LOCATION:Essential Church School Offices\, 4000 Eagle Point Corporate Drive\, Birmingham\, AL\, 35242\, United States
CATEGORIES:Testing
ATTACH;FMTTYPE=image/jpeg:https://kristytrent.com/wp-content/uploads/2013/09/sattest.jpg
END:VEVENT
BEGIN:VEVENT
DTSTART;TZID=America/Chicago:20150401T130000
DTEND;TZID=America/Chicago:20150401T160000
DTSTAMP:20260423T070332
CREATED:20141115T210544Z
LAST-MODIFIED:20141115T210544Z
UID:1315-1427893200-1427904000@kristytrent.com
SUMMARY:SAT 10 Testing for Grades 7-8 cont.
DESCRIPTION:SAT 10 Testing will continue on this day from start date on March 30th. Please view the March 30th date for full details.
URL:https://kristytrent.com/event/sat-10-testing-grades-7-8-cont/
LOCATION:Essential Church School Offices\, 4000 Eagle Point Corporate Drive\, Birmingham\, AL\, 35242\, United States
CATEGORIES:Testing
ATTACH;FMTTYPE=image/jpeg:https://kristytrent.com/wp-content/uploads/2014/11/sat10advanced.jpg
END:VEVENT
BEGIN:VEVENT
DTSTART;TZID=America/Chicago:20150418T100000
DTEND;TZID=America/Chicago:20150418T150000
DTSTAMP:20260423T070332
CREATED:20150401T175537Z
LAST-MODIFIED:20150401T175537Z
UID:1377-1429351200-1429369200@kristytrent.com
SUMMARY:Homeschooling Workshop
DESCRIPTION:I’m so excited to offer these workshops for those considering homeschooling\, new to homeschooling\, and those who need a refresher for the next school year. \nWe will discuss purpose and how we stay legal and secure.  In addition\, we will explore methods and how to choose curriculum.  And\, who doesn’t need some help with planning and organizing school days? \nWe have some guest speakers who will inspire and encourage you.  You will also hear stories from current homeschool moms. \nVisit http://homeschoolingworkshop2015a.eventbrite.com for all the details.
URL:https://kristytrent.com/event/homeschooling-workshop-4/
LOCATION:Chelsea City Hall\, 11611 Chelsea Road\, Chelsea\, AL\, 35043\, United States
CATEGORIES:Workshop
ATTACH;FMTTYPE=image/jpeg:https://kristytrent.com/wp-content/uploads/2014/05/homeschoolingworkshop.jpg
ORGANIZER;CN="Birmingham Homeschoolers Community":MAILTO:Info@birminghamhomeschoolers.com
END:VEVENT
END:VCALENDAR